BEGIN:VCALENDAR
PRODID:NingEventWidget-v1
VERSION:2.0
METHOD:PUBLISH
BEGIN:VEVENT
UID:4027687:Event:23612
DTSTAMP:20260423T215226Z
SUMMARY:28th ANNUAL SPRING DAYTONA TURKEY RUN
DESCRIPTION:The Daytona Turkey Run is the largest combined Car Show & 
 Swap Meet in the USA. Car enthusiasts from across the US and internati
 onally make their way to racing’s most celebrated location, the Dayt
 ona International Speedway.\n Started in 1974 and held every Thanksgiv
 ing Weekend and the last weekend in March, attendees enjoy more than 6
 ,000 vintage, classic, muscle cars, race cars and trucks for show and 
 sale. The show also includes more than 2,500 swap meet spaces, Artisan
  Alley, food and entertainment.\n In its history, more than $7 million
  of profits from the Daytona Turkey Run have funded charitable organiz
 ations as well as many local programs, projects and recreational facil
 ities.\n\nGeneral admission tickets are available online two months be
 fore the event or at the speedway during show days.\n Spectator admiss
 ion for the spring show is $10/day Fri and Sat, $5 Sun. Admission for 
 the fall show is $15/day Thurs-Sat, $10 Sunday.  Children 11 and unde
 r free.\n\nFor more information visit https://flaxmag.com/events/28th-
 annual-spring-daytona-turkey-run
DTSTART:20170325T000000Z
DTEND:20170326T180000Z
CATEGORIES:car, show, and, swap, meet
LOCATION:Daytona International Speedway
WEBSITE:http://www.turkeyrun.com/Turkey_Run_Home.html
URL:http://www.turkeyrun.com/Turkey_Run_Home.html
CONTACT:386-255-7355
ORGANIZER:WHITE DIAMOND PRODUCTIONS
ATTACH;FMTTYPE="image/jpeg":http://storage.ning.com/topology/rest/1.0/
 file/get/2587029301?profile=original
ATTENDEE;ROLE=REQ-PARTICIPANT;PARTSTAT=ACCEPTED;RSVP=TRUE;CN="FLAX MAG
 AZINE FL":https://flaxmag.com/profile/BW1
END:VEVENT
END:VCALENDAR
