BEGIN:VCALENDAR
PRODID:NingEventWidget-v1
VERSION:2.0
METHOD:PUBLISH
BEGIN:VEVENT
UID:4027687:Event:23509
DTSTAMP:20260423T192314Z
SUMMARY:Autogeek 12th Annual Detail Fest
DESCRIPTION:On March 18th & 19th, 2017, Autogeek will host the 12th an
 nual Detail Fest & Car Show in a BRAND NEW LOCATION! Detail Fest 2017 
 will be held at the Palm Beach County Convention Center! With over 100
 ,000 square feet reserved for vendor area and several class rooms for 
 the event, this new event will take Detail Fest to the next level and 
 offer a unique opportunity for car enthusiasts from around the globe t
 o gather and celebrate their shared passion for cars! Detail Fest is o
 pen to the public and will feature car shows, product demonstrations, 
 mini-detailing classes, food vendors and live entertainment. Detail Fe
 st provides a chance for fans and professionals alike to meet industry
  insiders and celebrities in a fun and casual setting. Each year, awar
 eness of Detail Fest grows and AutoGeek anticipates a record number of
  participants and spectators this year.\nDetail Fest 2017 Event Hours:
 \n\nSaturday, March 18th - Saturday Car Show. 9 a.m. to 4 p.m.\nSunday
 , March 19th - Sunday Car Show.10 a.m. to 4 p.m.\n\nAdmission to Detai
 l Fest 2017 is $10 for one adult one day, or $15 for one adult for bot
 h days. Kids 16 and under are free. Tickets are non-refundable should 
 there be inclement weather.\n\nFor more information visit https://flax
 mag.com/events/autogeek-12th-annual-detail-fest
DTSTART:20170318T130000Z
DTEND:20170319T200000Z
CATEGORIES:car, show, "/", care, event
LOCATION:Palm Beach County Convention Center
WEBSITE:http://www.autogeek.net/
URL:http://www.autogeek.net/
CONTACT:(800) 869-3011
ORGANIZER:AUTOGEEK
ATTACH;FMTTYPE="image/jpeg":http://storage.ning.com/topology/rest/1.0/
 file/get/2587029100?profile=original
ATTENDEE;ROLE=REQ-PARTICIPANT;PARTSTAT=ACCEPTED;RSVP=TRUE;CN="FLAX MAG
 AZINE FL":https://flaxmag.com/profile/BW1
END:VEVENT
END:VCALENDAR
