BEGIN:VCALENDAR
PRODID:NingEventWidget-v1
VERSION:2.0
METHOD:PUBLISH
BEGIN:VEVENT
UID:4027687:Event:22122
DTSTAMP:20260423T175049Z
SUMMARY:BBQ & Rally Bash
DESCRIPTION:Join Ferrari-Maserati of Fort Lauderdale for our huge BBQ 
 & Rally Bash and unveiling of the all-new Maserati Levante.  When: Sat
 urday, April 16th, 2016 at 11 am Where: Ferrari-Maserati of Fort Laude
 rdale  RSVP TODAY\n\nFor more information visit https://flaxmag.com/ev
 ents/bbq-rally-bash
DTSTART:20160416T150000Z
DTEND:20160416T170000Z
CATEGORIES:supercar, run
LOCATION:FERRARI-MASERATI OF FT. LAUDERDALE
WEBSITE:https://www.facebook.com/events/1542452106085197/
URL:https://www.facebook.com/events/1542452106085197/
CONTACT:
ORGANIZER:FERRARI-MASERATI OF FT. LAUDERDALE
ATTACH;FMTTYPE="image/jpeg":http://storage.ning.com/topology/rest/1.0/
 file/get/2587029887?profile=original
END:VEVENT
END:VCALENDAR
