BEGIN:VCALENDAR
PRODID:NingEventWidget-v1
VERSION:2.0
METHOD:PUBLISH
BEGIN:VEVENT
UID:4027687:Event:28125
DTSTAMP:20260423T233610Z
SUMMARY:BULL FEST MIAMI - 2018
DESCRIPTION:The 5th annual BullFest MIAMI will take place the 22rd, 23
 th, and 24th! Last year’s event included over 100 Lamborghini's from
  all across North America. This year will be even bigger than the last
 . Register now at BULLFEST MIAMI 2019.         \r\n     
                                    
                                    
  \r\nBullFest is a Lamborghini Only gathering and drive. The journey s
 tarted with a dozen Lamborghini owners going for a ride, and over the 
 years grew into a major event with turnouts of over 100. The events to
 ok place mainly in New York tri-state area, but since 2015 expanded to
  South Florida with first ever BullFest MIAMI Edition.  BE PART OF THE
  EXPERIENCE! As always, spectators are welcome! We need all of our Lam
 borghini owners in South Florida to register and make history with us!
  See you there!\r\n\r\nTickets Available...CLICK HERE!\r\n\r\nKid Frie
 ndly!\r\n\n\nFor more information visit https://flaxmag.com/events/bul
 l-fest-miami-2018
DTSTART:20190222T150000Z
DTEND:20190225T030000Z
CATEGORIES:lamborghini, event
LOCATION:LAMBORGHINI MIAMI
WEBSITE:http://drivingforceclub.com/vs4/bullfest-3/
URL:http://drivingforceclub.com/vs4/bullfest-3/
CONTACT:
ORGANIZER:Prestige Imports Miami / Driving Force Club
ATTACH;FMTTYPE="image/jpeg":https://storage.ning.com/topology/rest/1.0
 /file/get/1057278958?profile=original
ATTENDEE;ROLE=REQ-PARTICIPANT;PARTSTAT=ACCEPTED;RSVP=TRUE;CN="FLAX MAG
 AZINE FL":https://flaxmag.com/profile/BW1
END:VEVENT
END:VCALENDAR
