BEGIN:VCALENDAR
PRODID:NingEventWidget-v1
VERSION:2.0
METHOD:PUBLISH
BEGIN:VEVENT
UID:4027687:Event:25723
DTSTAMP:20260423T234052Z
SUMMARY:CAR MEET - SUPERIOR STREET SYDICATE
DESCRIPTION:Wings & Wheels Every Wednesday Night! Live DJ and Nikko  A
 ll cars, trucks , crews & clubs welcome \r\nBuffalo Wild Wings  1219 
 S Federal Highway Deerfield Beach, FL 33431   Respect this location!\
 n\nFor more information visit https://flaxmag.com/events/car-meet-supe
 rior-street-sydicate-3
DTSTART:20171123T000000Z
DTEND:20171123T040000Z
CATEGORIES:car, meet
LOCATION:BUFFALO WILD WINGS
WEBSITE:https://www.facebook.com/superiorstreetsyndicate/
URL:https://www.facebook.com/superiorstreetsyndicate/
CONTACT:
ORGANIZER:Jeffrey Cooper
ATTACH;FMTTYPE="image/jpeg":http://storage.ning.com/topology/rest/1.0/
 file/get/2587031408?profile=original
ATTENDEE;ROLE=REQ-PARTICIPANT;PARTSTAT=ACCEPTED;RSVP=TRUE;CN="FLAX MAG
 AZINE FL":https://flaxmag.com/profile/BW1
END:VEVENT
END:VCALENDAR
