BEGIN:VCALENDAR
PRODID:NingEventWidget-v1
VERSION:2.0
METHOD:PUBLISH
BEGIN:VEVENT
UID:4027687:Event:25250
DTSTAMP:20260424T030145Z
SUMMARY:CARS AND COFFEE HOMESTEAD MIAMI SPEEDWAY
DESCRIPTION:This is a Cars & Coffee and Track Day with Hooked On Drivi
 ng – Southeast Region.  Gates open at 9am, allow 15 min at the gate
  for Speedway protocols.  Cars & Coffee portion ends at 1pm but parti
 cipants are welcome to stay through the finish of the track activities
 .  Pre-registration before August 17 is strongly suggested.    Spe
 ctators are free.  Rain or shine.\r\n-VIP paddock parking Included -P
 arade lap on the speedway Included (approx 12pm) -Professional photos 
 of your car on the speedway vvailable for purchase via photosbyjuha.co
 m -Free access to the A/C suite & viewing upper deck, Sponsored by Flo
 rida Fine Cars & Florida Fine Cars West Palm Beach -Complimentary wate
 r &/or coffee (while supplies last) -Food trucks on premises -FARA rac
 ecar drivers on the track prepping for the summer challenge\r\n\r\n\n\
 nFor more information visit https://flaxmag.com/events/cars-and-coffee
 -homestead-miami-speedway
DTSTART:20170819T140000Z
DTEND:20170819T190000Z
CATEGORIES:car, show
LOCATION:HOMESTEAD SPEEDWAY
WEBSITE:https://www.eventbrite.com/e/homestead-miami-speedway-cars-cof
 fee-palm-beach-aug-2017-tickets-36813447011
URL:https://www.eventbrite.com/e/homestead-miami-speedway-cars-coffee-
 palm-beach-aug-2017-tickets-36813447011
CONTACT:(561) 756-3063
ORGANIZER:CARS AND COFFEE PALM BEACH
ATTACH;FMTTYPE="image/jpeg":http://storage.ning.com/topology/rest/1.0/
 file/get/2587029354?profile=original
ATTENDEE;ROLE=REQ-PARTICIPANT;PARTSTAT=ACCEPTED;RSVP=TRUE;CN="FLAX MAG
 AZINE FL":https://flaxmag.com/profile/BW1
END:VEVENT
END:VCALENDAR
