BEGIN:VCALENDAR
PRODID:NingEventWidget-v1
VERSION:2.0
METHOD:PUBLISH
BEGIN:VEVENT
UID:4027687:Event:27972
DTSTAMP:20260423T192601Z
SUMMARY:CARS and COFFEE KEY BISCAYNE
DESCRIPTION: The CLRDHOT! Cars and Coffee meetup is a monthly event wh
 ere gearheads get together to show off their prized machines and shoot
  the breeze over coffee and donuts. It’s an open-to-anybody event th
 at brings car enthusiasts together, whether they’re driving million-
 dollar exotics or just a beloved old beater. Family-friendly environme
 nt.\n\nFor more information visit https://flaxmag.com/events/cars-and-
 coffee-key-biscayne-1
DTSTART:20180520T120000Z
DTEND:20180520T160000Z
CATEGORIES:car, show
LOCATION:Miami Seaquarium
WEBSITE:http://www.clrdhot.com
URL:http://www.clrdhot.com
CONTACT:(305) 661-7711
ORGANIZER:The CLRDHOT!
ATTACH;FMTTYPE="image/jpeg":http://storage.ning.com/topology/rest/1.0/
 file/get/2587031099?profile=original
ATTENDEE;ROLE=REQ-PARTICIPANT;PARTSTAT=ACCEPTED;RSVP=TRUE;CN="FLAX MAG
 AZINE FL":https://flaxmag.com/profile/BW1
END:VEVENT
END:VCALENDAR
