BEGIN:VCALENDAR
PRODID:NingEventWidget-v1
VERSION:2.0
METHOD:PUBLISH
BEGIN:VEVENT
UID:4027687:Event:28202
DTSTAMP:20260423T175813Z
SUMMARY:CARS and COFFEE KEY BISCAYNE
DESCRIPTION:The CLRDHOT! Cars and Coffee meetup is a monthly event whe
 re gearheads get together to show off their prized machines and shoot 
 the breeze over coffee and donuts. It’s an open-to-anybody event tha
 t brings car enthusiasts together, whether they’re driving million-d
 ollar exotics or just a beloved old beater. Family-friendly environmen
 t.\n\nFor more information visit https://flaxmag.com/events/cars-and-c
 offee-key-biscayne-3
DTSTART:20180729T120000Z
DTEND:20180729T160000Z
CATEGORIES:car, show
LOCATION:Miami Seaquarium
WEBSITE:http://www.clrdhot.com
URL:http://www.clrdhot.com
CONTACT:(305) 661-7711
ORGANIZER:The CLRDHOT!
ATTACH;FMTTYPE="image/jpeg":http://storage.ning.com/topology/rest/1.0/
 file/get/2587031277?profile=original
ATTENDEE;ROLE=REQ-PARTICIPANT;PARTSTAT=ACCEPTED;RSVP=TRUE;CN="FLAX MAG
 AZINE FL":https://flaxmag.com/profile/BW1
END:VEVENT
END:VCALENDAR
