BEGIN:VCALENDAR
PRODID:NingEventWidget-v1
VERSION:2.0
METHOD:PUBLISH
BEGIN:VEVENT
UID:4027687:Event:27816
DTSTAMP:20260423T204940Z
SUMMARY:CARS AND COFFEE KEY BISCAYNE
DESCRIPTION:\r\nWe are excited to announce our partnership with Street
  Racing Made Safe and 4x4Alliance for CARS AND COFFEE KEY BISCAYNE!!  
 #clrdhot #BeBadAssEveryday #StreetRacingMade #iLoveStreetRacing #SRMS 
 #4x4alliance #carsandcoffeemiami #WhereWereGoingWeDontNeedRoads #carme
 et #doitfirtheculture — at Miami Seaquarium.\n\nFor more information
  visit https://flaxmag.com/events/cars-and-coffee-key-biscayne
DTSTART:20180224T130000Z
DTEND:20180224T170000Z
CATEGORIES:monthly, car, meet
LOCATION:Miami Seaquarium
WEBSITE:https://www.facebook.com/CLRDHOT/
URL:https://www.facebook.com/CLRDHOT/
CONTACT:
ORGANIZER:CLRDHOT MOTORSPORTS
ATTACH;FMTTYPE="image/jpeg":http://storage.ning.com/topology/rest/1.0/
 file/get/2587030970?profile=original
ATTENDEE;ROLE=REQ-PARTICIPANT;PARTSTAT=ACCEPTED;RSVP=TRUE;CN="FLAX MAG
 AZINE FL":https://flaxmag.com/profile/BW1
END:VEVENT
END:VCALENDAR
