BEGIN:VCALENDAR
PRODID:NingEventWidget-v1
VERSION:2.0
METHOD:PUBLISH
BEGIN:VEVENT
UID:4027687:Event:25402
DTSTAMP:20260423T214656Z
SUMMARY:CARS AND COFFEE PALM BEACH
DESCRIPTION:Florida’s largest monthly auto event.  Thousands of cus
 tom, classic and exotic vehicles. Massive vendor midway, rare specialt
 y display vehicles on our Showcase Corner, food trucks, music & entert
 ainment and even the occasional celebrity or professional athlete.  C
 ome be a part of the hype. This is family event and open to ALL makes 
 & models.  This is a monthly event that pulls in over 20,000 spectato
 rs per event.  Vendor opportunities are available.\n\nFor more inform
 ation visit https://flaxmag.com/events/cars-and-coffee-palm-beach-4
DTSTART:20171203T140000Z
DTEND:20171203T170000Z
CATEGORIES:car, meet, and, greet
LOCATION:PALM BEACH OUTLET MALL
WEBSITE:http://www.carsandcoffeepb.com/
URL:http://www.carsandcoffeepb.com/
CONTACT:561-756-3063
ORGANIZER:ART OF SPEED EVENTS
ATTACH;FMTTYPE="image/jpeg":http://storage.ning.com/topology/rest/1.0/
 file/get/2480345766?profile=original
ATTENDEE;ROLE=REQ-PARTICIPANT;PARTSTAT=ACCEPTED;RSVP=TRUE;CN="FLAX MAG
 AZINE FL":https://flaxmag.com/profile/BW1
END:VEVENT
END:VCALENDAR
