BEGIN:VCALENDAR
PRODID:NingEventWidget-v1
VERSION:2.0
METHOD:PUBLISH
BEGIN:VEVENT
UID:4027687:Event:27924
DTSTAMP:20260423T190802Z
SUMMARY:CARS, ART & CAFFEINE
DESCRIPTION:Every month on the second Sunday.  Hosted by Fast Town. A
 ll supercars, exotics, vintage European, and muscle cars welcome. Coff
 ee will be available at the BREW Urban Cafe located inside C&I Studios
 .\n\nFor more information visit https://flaxmag.com/events/cars-art-ca
 ffeine-21
DTSTART:20180909T140000Z
DTEND:20180909T190000Z
CATEGORIES:car, show
LOCATION:F.A.T. VILLAGE ARTS DISTRICT
WEBSITE:https://www.fatvillage.com/
URL:https://www.fatvillage.com/
CONTACT:
ORGANIZER:FAST TOWN
ATTACH;FMTTYPE="image/jpeg":http://storage.ning.com/topology/rest/1.0/
 file/get/2587030769?profile=original
ATTENDEE;ROLE=REQ-PARTICIPANT;PARTSTAT=ACCEPTED;RSVP=TRUE;CN="FLAX MAG
 AZINE FL":https://flaxmag.com/profile/BW1
END:VEVENT
END:VCALENDAR
