BEGIN:VCALENDAR
PRODID:NingEventWidget-v1
VERSION:2.0
METHOD:PUBLISH
BEGIN:VEVENT
UID:4027687:Event:30532
DTSTAMP:20260421T055042Z
SUMMARY:CARS, ART & CAFFEINE
DESCRIPTION:Every month on the second Sunday.  Hosted by Fast Town. A
 ll supercars, exotics, vintage European, and muscle cars welcome.\n\nF
 or more information visit https://flaxmag.com/events/cars-art-caffeine
 -6
DTSTART:20190825T150000Z
DTEND:20190825T180000Z
CATEGORIES:car, show
LOCATION:MASS DISTRICT
WEBSITE:https://www.fast.town
URL:https://www.fast.town
CONTACT:954.881.1024
ORGANIZER:FAST TOWN
ATTACH;FMTTYPE="image/jpeg":https://storage.ning.com/topology/rest/1.0
 /file/get/3184655027?profile=original
ATTENDEE;ROLE=REQ-PARTICIPANT;PARTSTAT=ACCEPTED;RSVP=TRUE;CN="FLAX MAG
 AZINE FL":https://flaxmag.com/profile/BW1
END:VEVENT
END:VCALENDAR
