BEGIN:VCALENDAR
PRODID:NingEventWidget-v1
VERSION:2.0
METHOD:PUBLISH
BEGIN:VEVENT
UID:4027687:Event:28107
DTSTAMP:20260423T233427Z
SUMMARY:CORVETTES @ CITYPLACE
DESCRIPTION:\r\nPresented by the Corvette Club of the Palm Beaches.  
 Dash plaques to the first 50 entries and live music.  Trophies includ
 e 30 Best of Show, Top 10 and largest club participation.  Registrati
 on is limited to the first 125 vehicles.  CityPlace offers a wide arr
 ay of shopping and restaurants.\r\n\r\n\r\nRESTRATION Starts: February
  3, 2018 8:30 am\r\nEnd: February 3, 2018 5:00 pm\r\nVenue:  CityPlace
 \r\nAddress: 700 Rosemary Ave, West Palm Beach, Florida 33401\r\nCateg
 ories: Saturday, Southeast Florida\r\nRegistration Fee:  $30 Pre / $35
  Gate \r\nPhone: (561) 346-5437\r\nEmail: thesweepr@gmail.com \r\nWebs
 ite: http://www.ccpb.us/\r\n\n\nFor more information visit https://fla
 xmag.com/events/corvettes-cityplace
DTSTART:20180203T150000Z
DTEND:20180203T220000Z
CATEGORIES:car, show
LOCATION:CityPlace Palm Beach
WEBSITE:http://www.ccpb.us/
URL:http://www.ccpb.us/
CONTACT:(561) 346-5437
ORGANIZER:CityPlace and Corvette Club of the Palm Beaches
ATTACH;FMTTYPE="image/jpeg":http://storage.ning.com/topology/rest/1.0/
 file/get/2587031434?profile=original
ATTENDEE;ROLE=REQ-PARTICIPANT;PARTSTAT=ACCEPTED;RSVP=TRUE;CN="FLAX MAG
 AZINE FL":https://flaxmag.com/profile/BW1
END:VEVENT
END:VCALENDAR
