BEGIN:VCALENDAR
PRODID:NingEventWidget-v1
VERSION:2.0
METHOD:PUBLISH
BEGIN:VEVENT
UID:4027687:Event:22318
DTSTAMP:20260423T203756Z
SUMMARY:CORVETTES ON THE LAKE
DESCRIPTION:TOP 10 & 30 BEST OF SHOW WITH CLUB PARTICIPATION $100\nMUS
 IC, DOOR PRIZES, FOOD STANDS, VENDORS, 50/50 ALL FOR CCPB CHARITY.\nAL
 SO NEAR BRYANT PARK ARE THE GREEN MARKET, AND A 5-MINUTE WALK FROM DOW
 NTOWN EATERIES, BARS, AND SHOPS.\nACCOMMODATIONS: HILTON GARDEN INN & 
 HAMTON INN - WEST PALM BEACH.\n\nFor more information visit https://fl
 axmag.com/events/corvettes-on-the-lake
DTSTART:20160402T140000Z
DTEND:20160402T200000Z
CATEGORIES:car, show
LOCATION:BRYANT PARK
WEBSITE:http://www.ccpb.us/ComingEvents/2016%20CorvOnTheLake.pdf
URL:http://www.ccpb.us/ComingEvents/2016%20CorvOnTheLake.pdf
CONTACT:561.433.5757
ORGANIZER:FRED FERRESE
ATTACH;FMTTYPE="image/jpeg":http://storage.ning.com/topology/rest/1.0/
 file/get/2587029798?profile=original
ATTENDEE;ROLE=REQ-PARTICIPANT;PARTSTAT=ACCEPTED;RSVP=TRUE;CN="FLAX MAG
 AZINE FL":https://flaxmag.com/profile/BW1
END:VEVENT
END:VCALENDAR
