BEGIN:VCALENDAR
PRODID:NingEventWidget-v1
VERSION:2.0
METHOD:PUBLISH
BEGIN:VEVENT
UID:4027687:Event:25352
DTSTAMP:20260424T042807Z
SUMMARY:DIAMONDS AND DONUTS SUPER CAR SHOW
DESCRIPTION:Come out to Diamonds & Donuts over at Diamonds by Raymond 
 Lee in Boca Raton, Fl. This show is catered to super cars only and you
  must RSVP since space is limited. Refreshments will be served complim
 entary of Diamonds by Raymond Lee and there will be music as well as a
  great social atmosphere. RSVP today by e-mail or text message to show
 case your exotic car!\r\n\r\n\r\nStart: August 20, 2017 9:00 am\r\nEnd
 : August 20, 2017 12:00 pm\r\nVenue:  Diamonds by Raymond Lee\r\nAddre
 ss: 2801 N Federal Highway, Boca Raton, Florida 33431\r\nCategories: S
 outheast Florida, Sunday\r\nRegistration Fee:  Free \r\nPhone: (561) 5
 73-0588\r\nEmail: hunter@diamondsbyraymondlee.com \r\n\n\nFor more inf
 ormation visit https://flaxmag.com/events/diamonds-and-donuts-super-ca
 r-show
DTSTART:20170820T130000Z
DTEND:20170820T160000Z
CATEGORIES:car, show
LOCATION:DIAMONDS BY RAYMOND LEE
WEBSITE:http://diamondsbyraymondlee.com
URL:http://diamondsbyraymondlee.com
CONTACT:(561) 573-0588
ORGANIZER:DIAMONDS BY RAYMOND LEE
ATTACH;FMTTYPE="image/jpeg":http://storage.ning.com/topology/rest/1.0/
 file/get/2587029327?profile=original
ATTENDEE;ROLE=REQ-PARTICIPANT;PARTSTAT=ACCEPTED;RSVP=TRUE;CN="FLAX MAG
 AZINE FL":https://flaxmag.com/profile/BW1
END:VEVENT
END:VCALENDAR
