BEGIN:VCALENDAR
PRODID:NingEventWidget-v1
VERSION:2.0
METHOD:PUBLISH
BEGIN:VEVENT
UID:4027687:Event:25417
DTSTAMP:20260423T230554Z
SUMMARY:DREAM CAR CLASSIC - HOLLYWOOD, FL
DESCRIPTION:Every month on the first Sunday.  Hosted by Cobra Joe Pro
 ductions.   Open to all years, makes and models.  40 Best of Show t
 rophies.  Music by oldies DJ Rockin’ Rich Bedford.\n\nFor more info
 rmation visit https://flaxmag.com/events/dream-car-classic-hollywood-f
 l
DTSTART:20171001T120000Z
DTEND:20171001T190000Z
CATEGORIES:car, show
LOCATION:DOWNTOWN HOLLYWOOD FLORIDA
WEBSITE:https://www.facebook.com/Cobra-Joe-Productions-457294807687811
 /timeline/
URL:https://www.facebook.com/Cobra-Joe-Productions-457294807687811/tim
 eline/
CONTACT:(954) 825-1027
ORGANIZER:COBRA JOE PRODUCTIONS
ATTACH;FMTTYPE="image/jpeg":http://storage.ning.com/topology/rest/1.0/
 file/get/2587030332?profile=original
ATTENDEE;ROLE=REQ-PARTICIPANT;PARTSTAT=ACCEPTED;RSVP=TRUE;CN="FLAX MAG
 AZINE FL":https://flaxmag.com/profile/BW1
END:VEVENT
END:VCALENDAR
