BEGIN:VCALENDAR
PRODID:NingEventWidget-v1
VERSION:2.0
METHOD:PUBLISH
BEGIN:VEVENT
UID:4027687:Event:31907
DTSTAMP:20260420T182159Z
SUMMARY:EXOTIC CAR RALLY TO POLO
DESCRIPTION:Exotic Car Rally, Polo, Brunch, Vip.  #sundayfunday #inter
 nationalpoloclub #rallytopolo #brunch #vip\n\nFor more information vis
 it https://flaxmag.com/events/exotic-car-rally-to-polo
DTSTART:20200126T180000Z
DTEND:20200127T010000Z
CATEGORIES:exotic, car, rally
LOCATION:INTERNATIONAL POLO CLUB - WELLINGTON
WEBSITE:http://www.fastliferally.com
URL:http://www.fastliferally.com
CONTACT:
ORGANIZER:FAST LIFE RALLY
ATTACH;FMTTYPE="image/jpeg":https://storage.ning.com/topology/rest/1.0
 /file/get/3831273844?profile=original
ATTENDEE;ROLE=REQ-PARTICIPANT;PARTSTAT=ACCEPTED;RSVP=TRUE;CN="FLAX MAG
 AZINE FL":https://flaxmag.com/profile/BW1
END:VEVENT
END:VCALENDAR
