BEGIN:VCALENDAR
PRODID:NingEventWidget-v1
VERSION:2.0
METHOD:PUBLISH
BEGIN:VEVENT
UID:4027687:Event:25511
DTSTAMP:20260423T221140Z
SUMMARY:Exotic Car Summer BBQ Meet
DESCRIPTION:Come out on the 23rd of September from 10am to 4 pm for th
 e \"Exotic Car BBQ Meet\" sponsored by Fast Life Rally. Get ready to h
 ave fun, Enjoy the Florida Weather, Show off your Ride, and enjoy the 
 Dj playing cool tunes, food, and drinks. The park entrance is $2.00 to
  $5.00 dollars. Tons of parking available on the pavement and grass. A
 ny questions email us info@fastliferally.com\n\nFor more information v
 isit https://flaxmag.com/events/exotic-car-summer-bbq-meet
DTSTART:20170923T140000Z
DTEND:20170923T170000Z
CATEGORIES:car, meet
LOCATION:TRADEWINDS PARK FARM EXPERIENCE
WEBSITE:https://www.facebook.com/FastLifeRally/
URL:https://www.facebook.com/FastLifeRally/
CONTACT:
ORGANIZER:FAST LIFE RALLY
ATTACH;FMTTYPE="image/jpeg":http://storage.ning.com/topology/rest/1.0/
 file/get/2587030385?profile=original
ATTENDEE;ROLE=REQ-PARTICIPANT;PARTSTAT=ACCEPTED;RSVP=TRUE;CN="FLAX MAG
 AZINE FL":https://flaxmag.com/profile/BW1
END:VEVENT
END:VCALENDAR
