BEGIN:VCALENDAR
PRODID:NingEventWidget-v1
VERSION:2.0
METHOD:PUBLISH
BEGIN:VEVENT
UID:4027687:Event:26102
DTSTAMP:20260423T234107Z
SUMMARY:EXOTIC vs AMERICAN MUSCLE CAR SHOW
DESCRIPTION:FREE Car Show\r\nEXOTIC vs AMERICAN MUSCLE\r\nPlace: CityP
 lace Doral\r\nWhen: Sunday, Nov 5, 2017\r\nTime: 12-4pm\n\nFor more in
 formation visit https://flaxmag.com/events/exotic-vs-american-muscle-c
 ar-show
DTSTART:20171105T170000Z
DTEND:20171105T210000Z
CATEGORIES:car, show
LOCATION:CITYPLACE - DORAL, FL
WEBSITE:https://www.facebook.com/photo.php?fbid=10159320993495291&amp;
 amp;amp;set=pcb.10159320993910291&amp;amp;amp;type=3&amp;amp;amp;theat
 er
URL:https://www.facebook.com/photo.php?fbid=10159320993495291&amp;amp;
 amp;set=pcb.10159320993910291&amp;amp;amp;type=3&amp;amp;amp;theater
CONTACT:
ORGANIZER:NEIL LONDON
ATTACH;FMTTYPE="image/jpeg":http://storage.ning.com/topology/rest/1.0/
 file/get/2587030058?profile=original
ATTENDEE;ROLE=REQ-PARTICIPANT;PARTSTAT=ACCEPTED;RSVP=TRUE;CN="FLAX MAG
 AZINE FL":https://flaxmag.com/profile/BW1
END:VEVENT
END:VCALENDAR
