BEGIN:VCALENDAR
PRODID:NingEventWidget-v1
VERSION:2.0
METHOD:PUBLISH
BEGIN:VEVENT
UID:4027687:Event:97205
DTSTAMP:20260423T085143Z
SUMMARY:SUPERCAR SATURDAYS FLORIDA
DESCRIPTION:\r\nSaturday, November 9th:\r\nSupercar Saturdays Florida 
 at the Seminole Hard Rock Hotel and Casino.Time: 9:00 A.M. - 12:00 P.M
 .Annual VIP Fun Run and Lunch\n\nFor more information visit https://fl
 axmag.com/events/exotics-at-the-colonnade
DTSTART:20241109T140000Z
DTEND:20241109T170000Z
CATEGORIES:car, show
LOCATION:HARD ROCK HOTEL &amp; CASINO HOLLYWOOD
WEBSITE:https://www.facebook.com/events/1204871090853969/
URL:https://www.facebook.com/events/1204871090853969/
CONTACT:
ORGANIZER:SUPERCAR SATURDAYS FLORIDA
ATTACH;FMTTYPE="image/jpeg":https://storage.ning.com/topology/rest/1.0
 /file/get/13076360692?profile=original
ATTENDEE;ROLE=REQ-PARTICIPANT;PARTSTAT=ACCEPTED;RSVP=TRUE;CN="FLAX MAG
 AZINE FL":https://flaxmag.com/profile/BW1
END:VEVENT
END:VCALENDAR
