BEGIN:VCALENDAR
PRODID:NingEventWidget-v1
VERSION:2.0
METHOD:PUBLISH
BEGIN:VEVENT
UID:4027687:Event:27982
DTSTAMP:20260423T192045Z
SUMMARY:EXOTICS & EXPRESSO
DESCRIPTION:\r\nWelcome to the Exotics & Espresso series brought to yo
 u by Prestige Imports | Lamborghini Miami! The largest gathering of Ex
 otic and Super Car enthusiasts in South Florida. Register your exotic 
 today and join us!\n\nFor more information visit https://flaxmag.com/e
 vents/exotics-expresso
DTSTART:20180519T140000Z
DTEND:20180519T170000Z
CATEGORIES:car, show
LOCATION:PRESITGE IMPORTS MIAMI
WEBSITE:https://www.facebook.com/events/371758773336965/
URL:https://www.facebook.com/events/371758773336965/
CONTACT:
ORGANIZER:PRESTIGE IMPORTS MIAMI
ATTACH;FMTTYPE="image/jpeg":https://storage.ning.com/topology/rest/1.0
 /file/get/3831294858?profile=original
ATTENDEE;ROLE=REQ-PARTICIPANT;PARTSTAT=ACCEPTED;RSVP=TRUE;CN="FLAX MAG
 AZINE FL":https://flaxmag.com/profile/BW1
END:VEVENT
END:VCALENDAR
