BEGIN:VCALENDAR
PRODID:NingEventWidget-v1
VERSION:2.0
METHOD:PUBLISH
BEGIN:VEVENT
UID:4027687:Event:93602
DTSTAMP:20260424T000917Z
SUMMARY:EXOTICS ON LAS OLAS
DESCRIPTION:EXOTICS ON LAS OLAS returns to celebrate it's 4th year as 
 the premier, exclusive exotic car event in Fort. Lauderdale, Florida. 
 Join Floyd Raglin (former Miami Dolphin) and crew, in partnership with
  the Greater Fort Lauderdale Convention & Visitors Bureau and the Las 
 Olas Association, as they showcase some of the most rare exotic and co
 llectable automobiles to be found anywhere in the country. Just blocks
  from Fort Lauderdale Beach, Exotics on Las Olas will feature over 300
  vehicles and 30+ vendors, in the heart of downtown Ft. Lauderdale's s
 hopping, dining and entertainment district.\r\n\r\nThis event is FREE 
 to the public, and is held every year during Veterans Day Weekend. Thi
 s year's event will be held on Sunday, November 7, 2021.\r\n\r\n**FYI:
  Don't miss the 300 car roll out at 4pm!\r\n   For more info go to: ww
 w.Exoticsonlasolas.com.\r\n\n\nFor more information visit https://flax
 mag.com/events/exotics-on-las-olas-1
DTSTART:20211107T160000Z
DTEND:20211107T210000Z
CATEGORIES:car, show
LOCATION:***LAS OLAS BLVD FROM SE 6TH AVE TO SE 11TH AVE.
WEBSITE:http://www.Exoticsonlasolas.com.
URL:http://www.Exoticsonlasolas.com.
CONTACT:305)725-3096
ORGANIZER:Exotics On Lasolas
ATTACH;FMTTYPE="image/jpeg":https://storage.ning.com/topology/rest/1.0
 /file/get/9716727659?profile=original
ATTENDEE;ROLE=REQ-PARTICIPANT;PARTSTAT=ACCEPTED;RSVP=TRUE;CN="FLAX MAG
 AZINE FL":https://flaxmag.com/profile/BW1
END:VEVENT
END:VCALENDAR
