BEGIN:VCALENDAR
PRODID:NingEventWidget-v1
VERSION:2.0
METHOD:PUBLISH
BEGIN:VEVENT
UID:4027687:Event:28130
DTSTAMP:20260423T204804Z
SUMMARY:FAST LIFE AUTO FEST
DESCRIPTION:Come join us for the Fast Life Auto Fest Monthly Car Show 
 from 10am to 1pm at Festival Market Place 2900 W Sample Rd Pompano Bea
 ch, Florida 33073. The show is free for all guests to come and enjoy t
 he Mall, Food, Shopping, and Live Dj playing a variety of music.   The
  car show includes Exotics, Hyper Cars, Classics, Hot Rods, Euros, and
  Trucks. Free Discount Book ($20 value) given to car show vehicles to 
 use inside the mall . If you're interested in registering your vehicle
  for the show, the fee is $5.00 and pre-registration is suggested via 
 www.fastliferally.com\n\nFor more information visit https://flaxmag.co
 m/events/fast-life-auto-fest
DTSTART:20180224T150000Z
DTEND:20180224T180000Z
CATEGORIES:car, show
LOCATION:Festival Marketplace
WEBSITE:https://www.facebook.com/events/197146217687469/
URL:https://www.facebook.com/events/197146217687469/
CONTACT:
ORGANIZER:Fast Life Rally
ATTACH;FMTTYPE="image/jpeg":http://storage.ning.com/topology/rest/1.0/
 file/get/2587037471?profile=original
ATTENDEE;ROLE=REQ-PARTICIPANT;PARTSTAT=ACCEPTED;RSVP=TRUE;CN="FLAX MAG
 AZINE FL":https://flaxmag.com/profile/BW1
END:VEVENT
END:VCALENDAR
