BEGIN:VCALENDAR
PRODID:NingEventWidget-v1
VERSION:2.0
METHOD:PUBLISH
BEGIN:VEVENT
UID:4027687:Event:22313
DTSTAMP:20260423T191453Z
SUMMARY:FESTIVAL ANNUAL SPRING CAR SHOW
DESCRIPTION:Join the Festival Flea Market Mall for our annual Spring C
 ar Show. Spectators get free admittance to see over 600 cars of all ma
 kes, models, styles and categories. Browse the parking lot and relive 
 memories of the cars of your youth alongside some of the most current 
 or show ready modern cars. This show has it all including some of the 
 largest car clubs in South Florida. Take a break from the cars and sho
 p in our inside mall or eat at one of the dozen restaurants inside the
  mall.\nFREE admission for spectators. Car registrants pay the low pri
 ce of only $30 for pre-registration or $35.00 on the day of show. All 
 car show participants receive shirts, gift certificates, access to the
  hospitality tent and more.\n\nFor more information visit https://flax
 mag.com/events/festival-annual-spring-car-show
DTSTART:20160403T140000Z
DTEND:20160403T200000Z
CATEGORIES:car, show
LOCATION:Festival Flea Market Mall
WEBSITE:https://festival.com/car-show
URL:https://festival.com/car-show
CONTACT:954-563-4000
ORGANIZER:Jumpin Jack
ATTACH;FMTTYPE="image/jpeg":http://storage.ning.com/topology/rest/1.0/
 file/get/2587029900?profile=original
ATTENDEE;ROLE=REQ-PARTICIPANT;PARTSTAT=ACCEPTED;RSVP=TRUE;CN="FLAX MAG
 AZINE FL":https://flaxmag.com/profile/BW1
END:VEVENT
END:VCALENDAR
