BEGIN:VCALENDAR
PRODID:NingEventWidget-v1
VERSION:2.0
METHOD:PUBLISH
BEGIN:VEVENT
UID:4027687:Event:23615
DTSTAMP:20260423T215111Z
SUMMARY:FESTIVAL SPRING CAR SHOW 2017
DESCRIPTION:The Festival 2017 Spring Car Show will be on April 2 from 
 10:00 AM to 4:00 PM.\nAdmission for Spectators is FREE. Show Cars can 
 pre-register for $30 up until March 30th or register on the day of the
  show for $35. Remember, admission for spectators is FREE.\n\nFestival
 's Spring Car Show is Sunday, April 2, 2017\n \nSpectators FREE\nPre-
 registration for car show entrants is available online at http://festi
 valfleamarketmall.eventbrite.com\nJoin the Festival Flea Market Mall f
 or our annual Spring Car Show. Spectators get free admission to see ov
 er 600 cars of all makes, models, styles and categories. Browse the pa
 rking lot and relive memories of the cars of your youth alongside some
  of the most current or show ready modern cars. This show has it all i
 ncluding some of the largest car clubs in South Florida. Take a break 
 from the cars and shop in our inside mall or eat at one of the dozen r
 estaurants inside the mall.\nFREE admission for spectators. Car regist
 rants pay the low price of only $30 for pre-registration or $35.00 on 
 the day of show. All car show participants receive shirts, gift certif
 icates, access to the hospitality tent and more.\nPre-registration for
  car show entrants is available online at http://festivalfleamarketmal
 l.eventbrite.com\n\n\n\n\nFor more information visit https://flaxmag.c
 om/events/festival-spring-car-show-2017
DTSTART:20170402T140000Z
DTEND:20170402T200000Z
CATEGORIES:car, show
LOCATION:Festival Flea Market Mall
WEBSITE:http://festival.com/car-show
URL:http://festival.com/car-show
CONTACT:954-979-4555
ORGANIZER:FESTIVAL FLEE MARKET
ATTACH;FMTTYPE="image/jpeg":http://storage.ning.com/topology/rest/1.0/
 file/get/2587029373?profile=original
ATTENDEE;ROLE=REQ-PARTICIPANT;PARTSTAT=ACCEPTED;RSVP=TRUE;CN="FLAX MAG
 AZINE FL":https://flaxmag.com/profile/BW1
END:VEVENT
END:VCALENDAR
