BEGIN:VCALENDAR
PRODID:NingEventWidget-v1
VERSION:2.0
METHOD:PUBLISH
BEGIN:VEVENT
UID:4027687:Event:25732
DTSTAMP:20260423T234502Z
SUMMARY:FESTIVALS OF SPEED /  Luxury LIfestyle Coctail Reception
DESCRIPTION:The 2nd Annual Festivals of Speed at The Diplomat Golf & T
 ennis Club is set for Sunday, November 12, 2017. The motorsports displ
 ay will showcase over 200 exotic cars, motorcycles, and luxury brands.
  The Festivals of Speed show field has become known for its unique div
 ersity, showcasing both vintage and contemporary vehicles of all makes
  and models placed for display amongst the splendor and hospitality of
  the magnificent property. Guests will experience automotive designs b
 y Lamborghini, Jaguar, Porsche, Ferrari, Rolls-Royce, Aston-Martin, BM
 W, Mercedes, McLaren, and more while enjoying fine wines, exciting cul
 inary offerings, cigar lounges, on site cafes, smooth jazz in the gard
 ens, and luxury brand displays.\r\nVIP SECTION TICKET: $125.00 PP Date
 : Sunday, November 12, 2017 Time: 10:00am-4:00pm\r\nTHE DIPLOMAT GOLF 
 & TENNIS CLUB 501 Diplomat Parkway Hallandale, FL 33009\r\nThis exclus
 ive VIP only section will feature a fabulous culinary display, premium
  brand open bars, VIP gift bag filled with gifts from our sponsors and
  much more. Culinary offerings are too much to list here but include a
  fabulous seafood display, carved prime rib, custom created breakfast 
 station featuring omelets, eggs of any type, hot buffet, cold buffet, 
 mini pastries, bottomless mimosas and more.\r\nAlternate parking for t
 he event is located at Gulfstream Park: Click Here for Directions.\r\n
 \r\nHYDE RESORT AND RESIDENCES\r\nClick here to book a room\r\n \n\nF
 or more information visit https://flaxmag.com/events/festivals-of-spee
 d-luxury-lifestyle-coctail-reception
DTSTART:20171112T150000Z
DTEND:20171112T210000Z
CATEGORIES:car, exibit, "&amp", coctail, reception
LOCATION:The DIPLOMAT GOLF &amp; TENNIS CLUB.
WEBSITE:http://www.festivalsofspeed.com/js_events/hallandale-beach/
URL:http://www.festivalsofspeed.com/js_events/hallandale-beach/
CONTACT:
ORGANIZER:FESTIVALS OF SPEED
ATTACH;FMTTYPE="image/jpeg":http://storage.ning.com/topology/rest/1.0/
 file/get/2587029934?profile=original
ATTENDEE;ROLE=REQ-PARTICIPANT;PARTSTAT=ACCEPTED;RSVP=TRUE;CN="FLAX MAG
 AZINE FL":https://flaxmag.com/profile/BW1
END:VEVENT
END:VCALENDAR
