BEGIN:VCALENDAR
PRODID:NingEventWidget-v1
VERSION:2.0
METHOD:PUBLISH
BEGIN:VEVENT
UID:4027687:Event:31911
DTSTAMP:20260420T081729Z
SUMMARY:FGCU MOTOR SHOW RALLY
DESCRIPTION:- RsvP here www.fastliferally.com $250.00 per car - Exotic
  Car Rally- Breakfast Launch \"Lambo Broward\"- Swag Bag- Rally Decals
  - FGCU Charity Car show \"American Heart Association\" Charity fee- V
 iP Car affiliation parking at Car show - \"Hyatt Regency Coconut Point
  Resort and Spa\" Book your Room Here!!! **Not Included** https://www.
 hyatt.com/en-US/group-booking/NAPRN/G-AFLR- Photography & Videos- Nigh
 tlife Experience- Get Ready to Rally!!!!! \n\nFor more information vis
 it https://flaxmag.com/events/fgcu-motor-show-rally
DTSTART:20200118T050000Z
DTEND:20200120T045900Z
CATEGORIES:exotic, car, rally
LOCATION:FORT MYERS, FL
WEBSITE:http://www.fastliferally.com
URL:http://www.fastliferally.com
CONTACT:
ORGANIZER:FAST LIFE RALLY
ATTACH;FMTTYPE="image/jpeg":https://storage.ning.com/topology/rest/1.0
 /file/get/3823959103?profile=original
ATTENDEE;ROLE=REQ-PARTICIPANT;PARTSTAT=ACCEPTED;RSVP=TRUE;CN="FLAX MAG
 AZINE FL":https://flaxmag.com/profile/BW1
END:VEVENT
END:VCALENDAR
