BEGIN:VCALENDAR
PRODID:NingEventWidget-v1
VERSION:2.0
METHOD:PUBLISH
BEGIN:VEVENT
UID:4027687:Event:23714
DTSTAMP:20260423T205758Z
SUMMARY:FT. LAUDERDALE INTERNATIONAL AUTO SHOW
DESCRIPTION:Located in the Greater Fort Lauderdale – Broward County 
 Convention Center -the Fort Lauderdale International Auto Show benefit
 s the Boys and Girls Clubs of Broward County. Now in its 26th year, on
 e of the Ft Lauderdale Show unique features is how the public has the 
 opportunity to test ride popular cars and trucks and to meet with deal
 ers and discuss price and terms right there on the show floor.\nSee al
 l your favorites, go for a test drive or two, and take a walk down mem
 ory lane with the classics. It’s an auto show, and so much more. Fea
 turing more than 500 of the world’s leading cars, trucks, SUVs, and 
 motorcycles, the Ft Lauderdale International Auto Show has become one 
 of the most popular “shopping shows” in the region.\nTake a spin i
 n a compact, sports, SUV, pick-up or luxry vehicle while at the show. 
 Take a tour of the area in one the new Chevrolet, Buick, Ford, Toyota,
  Fiat or GMC models available for a test drive.\nThe Broward County Co
 nvention Center is located at the northern end of Port Everglades, as 
 part of the world’s largest cruise port, Security manages the checkp
 oints at all entrances to Port Everglades. Parking is conveniently con
 nected to the Northport Parking Garage with covered, air conditioned s
 kywalks. Northport Parking Garage is well-illuminated and security pat
 rolled.\n\n\nFor more information visit https://flaxmag.com/events/ft-
 lauderdale-international-atuo-show
DTSTART:20170323T180000Z
DTEND:20170327T000000Z
CATEGORIES:car, show
LOCATION:Greater Ft. Lauderdale / Broward County Convention Center
WEBSITE:http://ftlauderdaleautoshow.com/
URL:http://ftlauderdaleautoshow.com/
CONTACT:( 305 ) 981.1448
ORGANIZER:FTL INTERNATIONAL AUTO SHOW
ATTACH;FMTTYPE="image/jpeg":http://storage.ning.com/topology/rest/1.0/
 file/get/2587029655?profile=original
ATTENDEE;ROLE=REQ-PARTICIPANT;PARTSTAT=ACCEPTED;RSVP=TRUE;CN="FLAX MAG
 AZINE FL":https://flaxmag.com/profile/BW1
END:VEVENT
END:VCALENDAR
