BEGIN:VCALENDAR
PRODID:NingEventWidget-v1
VERSION:2.0
METHOD:PUBLISH
BEGIN:VEVENT
UID:4027687:Event:21930
DTSTAMP:20260423T215339Z
SUMMARY:FT. LAUDERDALE INTERNATIONAL AUTO SHOW
DESCRIPTION:2016 (March 24-27) promises to be our biggest show yet –
  keep coming back for the latest news!\nLocated in the Greater Fort La
 uderdale – Broward County Convention Center -the Fort Lauderdale Int
 ernational Auto Show benefits the Boys and Girls Clubs of Broward Coun
 ty. Now in its 25th year, one of the Ft Lauderdale Show unique feature
 s is how the public has the opportunity to test ride popular cars and 
 trucks and to meet with dealers and discuss price and terms right ther
 e on the show floor.\nFeaturing more than 500 of the world’s leading
  cars, trucks, SUVs, and motorcycles, the Ft Lauderdale International 
 Auto Show has become one of the most popular “shopping shows” in t
 he region.\nOfficial Opening Day\nThursday March 24, 2016 SHOW FLOOR O
 PENS AT 3 p.m.\nDates and Times:\nThursday, March 24 – 3 p.m.  to 
 10 p.m.\nFriday, March 25 – 3 p.m.  to  11 p.m.\nSaturday, March 
 26 – 10 a.m.  to  11 p.m.\nSunday, March 27 – 10 a.m.  to  8 p
 .m.\n2016 Dates and Times Subject to Change\n The Broward County Conv
 ention Center and Convention Center Parking are part of Broward County
  Port Everglades Authority. The following rules and regulations must b
 e followed while on the premises of Broward County’s Port Everglades
 :\n• Visitors must present valid government-issued photo identificat
 ion (such as a current driver’s license) in order to gain access to 
 Convention Center Parking.\n\nFor more information visit https://flaxm
 ag.com/events/ft-lauderdale-international-auto-show
DTSTART:20160324T190000Z
DTEND:20160328T000000Z
CATEGORIES:auto, show
LOCATION:Greater Fort Lauderdale – Broward County Convention Center
WEBSITE:http://ftlauderdaleautoshow.com/
URL:http://ftlauderdaleautoshow.com/
CONTACT:305-981-1448
ORGANIZER;CN="FLAX MAGAZINE FL":https://flaxmag.com/profile/BW1
ATTACH;FMTTYPE="image/jpeg":http://storage.ning.com/topology/rest/1.0/
 file/get/2587027622?profile=original
ATTENDEE;ROLE=REQ-PARTICIPANT;PARTSTAT=ACCEPTED;RSVP=TRUE;CN="FLAX MAG
 AZINE FL":https://flaxmag.com/profile/BW1
END:VEVENT
END:VCALENDAR
