BEGIN:VCALENDAR
PRODID:NingEventWidget-v1
VERSION:2.0
METHOD:PUBLISH
BEGIN:VEVENT
UID:4027687:Event:25058
DTSTAMP:20260424T014616Z
SUMMARY:HIGH OCTANE CARLS & CAFFEINE
DESCRIPTION:Every month on the third Saturday.  Come out and enjoy th
 e mall, food, shopping and DJ music.  Exotics, hyper cars, classics, 
 hot rods, Euros and trucks will all be in attendance.  Free for spect
 ators.  Online show registration HERE.\r\n\r\n\n\nFor more informatio
 n visit https://flaxmag.com/events/high-octane-carls-caffeine
DTSTART:20170819T130000Z
DTEND:20170819T170000Z
CATEGORIES:car, show
LOCATION:FESTIVAL MARKETPLACE
WEBSITE:https://www.facebook.com/FastLifeRally/
URL:https://www.facebook.com/FastLifeRally/
CONTACT:(305) 525-8735
ORGANIZER:FAST LIFE RALLY
ATTACH;FMTTYPE="image/jpeg":http://storage.ning.com/topology/rest/1.0/
 file/get/2587029450?profile=original
ATTENDEE;ROLE=REQ-PARTICIPANT;PARTSTAT=ACCEPTED;RSVP=TRUE;CN="FLAX MAG
 AZINE FL":https://flaxmag.com/profile/BW1
END:VEVENT
END:VCALENDAR
