BEGIN:VCALENDAR
PRODID:NingEventWidget-v1
VERSION:2.0
METHOD:PUBLISH
BEGIN:VEVENT
UID:4027687:Event:25389
DTSTAMP:20260423T233444Z
SUMMARY:HOT WHEELS CAR SHOW
DESCRIPTION:Hosted by Kustom Wheels Car Show and South Miami Mopar Con
 nection.  Hot wheels legends free medallions for the one who brings a
  hot wheel car that matches your car, make, model & color.  All show 
 participants receive a 10% discount at Denny’s & Pizza Hut when dini
 ng during the show.  Get there early for good parking.\n\nFor more in
 formation visit https://flaxmag.com/events/hot-wheels-car-show
DTSTART:20170909T210000Z
DTEND:20170910T020000Z
CATEGORIES:car, show
LOCATION:DENNYS
WEBSITE:https://www.facebook.com/Kustom-Wheels-Car-Show-28083932536936
 0/
URL:https://www.facebook.com/Kustom-Wheels-Car-Show-280839325369360/
CONTACT:(305) 684-4607
ORGANIZER:KUSTOM WHEELS / SOUTH MIAMI MOPAR
ATTACH;FMTTYPE="image/jpeg":http://storage.ning.com/topology/rest/1.0/
 file/get/2587031430?profile=original
ATTENDEE;ROLE=REQ-PARTICIPANT;PARTSTAT=ACCEPTED;RSVP=TRUE;CN="FLAX MAG
 AZINE FL":https://flaxmag.com/profile/BW1
END:VEVENT
END:VCALENDAR
