BEGIN:VCALENDAR
PRODID:NingEventWidget-v1
VERSION:2.0
METHOD:PUBLISH
BEGIN:VEVENT
UID:4027687:Event:22019
DTSTAMP:20260423T230512Z
SUMMARY:Jacksonville International Auto Show
DESCRIPTION:JACKSONVILLE INTERNATIONAL AUTO SHOW 2016Itâ€™s the perfec
 t place to browse hundreds of the yearâ€™s new vehicles! Located at th
 e Prime F. Osborn III Convention Center, the Jacksonville Internationa
 l Auto Show is the premier showcase of the newest model year import an
 d domestic vehicles â€” cars, vans, crossovers, hybrids, light trucks 
 and sport utilities. Factory and dealer representatives from the car l
 ines are on hand to answer your questions in a no pressure environment
  at the Auto Show. There are cars to suit every budget and life style 
 at the Auto Show. With the car lines all under one roof, itâ€™s easy t
 o compare prices and features, saving both time and money. So come sit
  in the cars, pop the hoods, inspect the trunks, kick the tires. The J
 acksonville International Auto Show is great entertainment for serious
  shoppers, auto buffs and the entire family!\nLOCATION\nPrime Osborn C
 onvention Center 1000 Water Street Jacksonville, FL 32204\nHOURS\nFrid
 ay, February 19, 12:00 PM â€“ 9:00 PM Saturday, February 20, 10:00 AM 
 â€“ 9:00 PM Sunday, February 21, 10:00 AM â€“ 6:00 PM\n*Box Office clo
 ses 1 hour prior to the end of the Show each day.\nADMISSION\nAdults Â
   Â  Â  Â  Â  Â  Â  Â  Â  Â  Â  Â  $10.00 Children (6-12) Â  Â  Â  Â $
 5.00\nChildren under 6Â Â Â  Free Seniors (65+) Â  Â  Â  Â  Â  Â $8.00
  (ID required)\nMilitary Â  Â  Â  Â  Â  Â  Â  Â  Â  Â  Â  $5.00* (Acti
 ve and retired military personnel with appropriate military ID (white 
 active duty or blue retired military cards).\nÂ \n*Tickets can be purc
 hasedÂ onlineÂ or at the door and will never sell out. Â There is no s
 ervice fee for purchasing tickets online. Tickets requiring identifica
 tion must be purchased on-site. Â Ticket purchases are nonrefundable. 
 Â We accept Visa and MasterCard. Â There is an ATM located in the lobb
 y of the Convention Center.\n\n\n\nFor more information visit https://
 flaxmag.com/events/jacksonville-international-auto-show
DTSTART:20160219T170000Z
DTEND:20160221T230000Z
CATEGORIES:auto, show
LOCATION:PRIME OSBORN CONVENTION CENTER
WEBSITE:http://jaxautoshow.com/
URL:http://jaxautoshow.com/
CONTACT:(904) 630-4800
ORGANIZER;CN="FLAX MAGAZINE FL":https://flaxmag.com/profile/BW1
ATTACH;FMTTYPE="image/jpeg":http://storage.ning.com/topology/rest/1.0/
 file/get/2587029731?profile=original
ATTENDEE;ROLE=REQ-PARTICIPANT;PARTSTAT=ACCEPTED;RSVP=TRUE;CN="FLAX MAG
 AZINE FL":https://flaxmag.com/profile/BW1
END:VEVENT
END:VCALENDAR
