BEGIN:VCALENDAR
PRODID:NingEventWidget-v1
VERSION:2.0
METHOD:PUBLISH
BEGIN:VEVENT
UID:4027687:Event:25623
DTSTAMP:20260423T221315Z
SUMMARY:Kilts & Kars Custom and Classic Car Show
DESCRIPTION:Kilts & Kars custom and classic car show, presented by Art
  of Speed Auto Events. $20 REGISTRATION  Numerous trophy classes Peopl
 e's Choice Award Best of Show Music, Food & Drink Specials and plenty 
 of awesome rides!\r\n\r\n\r\nSaturday, October 21 at 11:00 AM - 3:00 P
 M EDT\r\n\r\n\r\nTilted Kilt Pub and Eatery (Boca Raton, FL)\r\n3320 A
 irport Rd, Ste 1, Boca Raton, Florida 33431\r\n\n\nFor more informatio
 n visit https://flaxmag.com/events/kilts-kars-custom-and-classic-car-s
 how
DTSTART:20171021T150000Z
DTEND:20171021T190000Z
CATEGORIES:car, show
LOCATION:TILTED KILT
WEBSITE:https://www.facebook.com/events/731892517004019/
URL:https://www.facebook.com/events/731892517004019/
CONTACT:
ORGANIZER:CARS &amp; COFFEE PALM BEACH
ATTACH;FMTTYPE="image/jpeg":http://storage.ning.com/topology/rest/1.0/
 file/get/2587035322?profile=original
ATTENDEE;ROLE=REQ-PARTICIPANT;PARTSTAT=ACCEPTED;RSVP=TRUE;CN="FLAX MAG
 AZINE FL":https://flaxmag.com/profile/BW1
END:VEVENT
END:VCALENDAR
