BEGIN:VCALENDAR
PRODID:NingEventWidget-v1
VERSION:2.0
METHOD:PUBLISH
BEGIN:VEVENT
UID:4027687:Event:25627
DTSTAMP:20260423T231117Z
SUMMARY:Lake Worth Beach All Stars and Cars
DESCRIPTION:Every month on the second Thursday.  Hosted by Michael fr
 om the Next Generation Road Rascals and the City of Lake Worth.  The 
 first 20 registered vehicles will receive a gift bag.  Trophies to th
 e best vehicles.  All cars must be parked by 5:30 before the block is
  closed to only spectators.\r\n\r\n\r\nStart: September 14, 2017 6:00 
 pm\r\nEnd: September 14, 2017 9:00 pm\r\nVenue:  Lake Worth Casino Bal
 lroom\r\nAddress: 10 S Ocean Blvd, Lake Worth, Florida\r\nCategories: 
 recurring, Southeast Florida, Thursday\r\nRegistration Fee:  $15 \r\nP
 hone: (786) 234-8152 Michael\r\nWebsite: https://www.lakeworth.org/eve
 nts/\r\n\n\nFor more information visit https://flaxmag.com/events/lake
 -worth-beach-all-stars-and-cars-2
DTSTART:20171109T230000Z
DTEND:20171110T020000Z
CATEGORIES:car, show
LOCATION:Lake Worth Casino Ballroom
WEBSITE:https://www.lakeworth.org/events/
URL:https://www.lakeworth.org/events/
CONTACT:(786) 234-8152 Michael
ORGANIZER:Next Generation Road Rascals
ATTACH;FMTTYPE="image/jpeg":http://storage.ning.com/topology/rest/1.0/
 file/get/2587031805?profile=original
ATTENDEE;ROLE=REQ-PARTICIPANT;PARTSTAT=ACCEPTED;RSVP=TRUE;CN="FLAX MAG
 AZINE FL":https://flaxmag.com/profile/BW1
END:VEVENT
END:VCALENDAR
