BEGIN:VCALENDAR
PRODID:NingEventWidget-v1
VERSION:2.0
METHOD:PUBLISH
BEGIN:VEVENT
UID:4027687:Event:23813
DTSTAMP:20260424T002300Z
SUMMARY:LOW RIDER CUSTOM CAR SUPER SHOW!!!
DESCRIPTION:\n \n\\ADMISSION \nPrices are 65.00 plus taxed and fees 
 for a weekend pass. 39.50 for a single day pass plus taxes and fees. C
 hildren 12 and under are  29.50 for a weekend pass. 19.50 for a singl
 e day 12 and under pass. VIP weekend passes are 149.00\n​\n​\n\\S
 HOW AND VENUE TIMES AND LOCATION\nThe Miami Dade County Fairgrounds a
 nd Exposition is located at 109 01 Coral Way Miami, Florida 33165. THe
  Super Show will be held on Saturday, April  29 and Sunday, April 
 30 from Noon till 8 pm. Shows will run throughout the day on our st
 ages. Artists TBA, Hydraulics Exhibition TBA\n \n\\TICKET AVAILABILIT
 Y ON SITE\nTickets will available through Ticketmaster.com and Through
  Tickmaster Retail Outlets, as well as the Fairgrounds box office on A
 pril 29 - April 30 starting at 10am\n \n \n\\ENTRY & SECURITY\nNo
  re entry, All persons and bags entering the Fairgrounds will be subje
 ct to search.\n \n \n\\WEATHER\nRain or Shine, the show must go one!
 \n\n\n\nFor more information visit https://flaxmag.com/events/low-ride
 r-custom-car-super-show
DTSTART:20170429T160000Z
DTEND:20170501T000000Z
CATEGORIES:car, show
LOCATION:Miami Dade County Fair & Expo Center
WEBSITE:http://www.miamilowridercarshow.com/
URL:http://www.miamilowridercarshow.com/
CONTACT:(954) 642-1848
ORGANIZER:LOW RIDER MAGAZINE
ATTACH;FMTTYPE="image/jpeg":http://storage.ning.com/topology/rest/1.0/
 file/get/2587029779?profile=original
ATTENDEE;ROLE=REQ-PARTICIPANT;PARTSTAT=ACCEPTED;RSVP=TRUE;CN="FLAX MAG
 AZINE FL":https://flaxmag.com/profile/BW1
END:VEVENT
END:VCALENDAR
