BEGIN:VCALENDAR
PRODID:NingEventWidget-v1
VERSION:2.0
METHOD:PUBLISH
BEGIN:VEVENT
UID:4027687:Event:28192
DTSTAMP:20260423T192704Z
SUMMARY:MOTOR MADNESS CUSTOM CAR SHOW AND MEET
DESCRIPTION:MOTOR MADNESS Custom Car Show & Meet\r\nBig Apple Flea Mar
 ket\r\n5283 West Atlantic Ave, Delray Beach, FL 33484 TOP 10 Awards & 
 Best of Show Monthly / 10am-2pm $10 Registration Spectators FREE\r\nEv
 ery month on the third Saturday. Produced by Art of Speed Auto Events,
  the creators of Cars & Coffee Palm Beach. This is Delray's newest aut
 omotive hot spot. Open to all makes, models and vintages. FREE coffee 
 for all patrons, indoor & outdoor vendors, music, food & beverages, an
 d beer & wine. Top 10 and Best of Show awards. Contact Lana (703) 606-
 4776 for vendor opportunities.\r\n\r\n\r\n\r\n\r\n\r\nE\r\n\r\n\n\nFor
  more information visit https://flaxmag.com/events/motor-madness-custo
 m-car-show-and-meet-1
DTSTART:20180519T140000Z
DTEND:20180520T180000Z
CATEGORIES:car, show
LOCATION:THE BIG APPLE FLEA MARKET
WEBSITE:https://www.carsandcoffeepb.com/carshows
URL:https://www.carsandcoffeepb.com/carshows
CONTACT:
ORGANIZER:CARS &amp; COFFEE PALM BEACH
ATTACH;FMTTYPE="image/jpeg":http://storage.ning.com/topology/rest/1.0/
 file/get/2587031356?profile=original
ATTENDEE;ROLE=REQ-PARTICIPANT;PARTSTAT=ACCEPTED;RSVP=TRUE;CN="FLAX MAG
 AZINE FL":https://flaxmag.com/profile/BW1
END:VEVENT
END:VCALENDAR
