BEGIN:VCALENDAR
PRODID:NingEventWidget-v1
VERSION:2.0
METHOD:PUBLISH
BEGIN:VEVENT
UID:4027687:Event:96023
DTSTAMP:20260421T042759Z
SUMMARY:MOTORCAR CAVALCADE
DESCRIPTION:\r\nComing February 4, 2024, the annual Motorcar Cavalcade
  Concours d’Elegance returns to Miami—launching the winter show se
 ason in glorious fashion—at the renowned JW Marriott Turnberry Resor
 t & Spa.\r\n\r\n\r\n\r\nThis Lifestyle Concours event gathers our glob
 al community of car connoisseurs to share an enchanting collection of 
 rare, remarkable, seductive and historic automobiles—the finest in t
 he world—all in grand garden party form.\r\n\r\n\r\n\r\nMotorcar Cav
 alcade is a celebration for any car enthusiast or patron of the finer 
 things in life—presented in an unforgettable and unmatched unificati
 on of cars, cuisine and lifestyle.\r\n\n\nFor more information visit h
 ttps://flaxmag.com/events/motorcar-cavalcade-1
DTSTART:20240204T150000Z
DTEND:20240204T210000Z
CATEGORIES:car, show
LOCATION:JW MARRIOT MIAMI TURNBERRY RESORT &amp; SPA
WEBSITE:https://www.motorcarcavalcade.com
URL:https://www.motorcarcavalcade.com
CONTACT:
ORGANIZER:MOTORCAR CAVALCADE
ATTACH;FMTTYPE="image/jpeg":https://storage.ning.com/topology/rest/1.0
 /file/get/12287414487?profile=original
ATTENDEE;ROLE=REQ-PARTICIPANT;PARTSTAT=ACCEPTED;RSVP=TRUE;CN="FLAX MAG
 AZINE FL":https://flaxmag.com/profile/BW1
END:VEVENT
END:VCALENDAR
