BEGIN:VCALENDAR
PRODID:NingEventWidget-v1
VERSION:2.0
METHOD:PUBLISH
BEGIN:VEVENT
UID:4027687:Event:1043
DTSTAMP:20260424T003118Z
SUMMARY:SAINT LOUIS AUTO SHOW
DESCRIPTION:The largest automobile event in the St. Louis area, the 20
 10 St. Louis Auto Show features more than 500 new cars, trucks, SUVs a
 nd concept vehicles from over 25 manufacturers.\n\nWhen Thursday, Janu
 ary 28 - Sunday, January 31, 2010\n\nWhere America's Center and Dome\n
 701 Convention Plaza, downtown St. Louis\n\nHours Thursday\nNoon - 9 p
 .m.\n\nFriday\nNoon - 10 p.m.\n\nSaturday\n10 a.m. - 10 p.m.\n\nSunday
 \n10 a.m. - 5 p.m.\n\n\nTickets General Admission (on-site)\nAdults - 
 $9.00\nChildren 6-12 years old - $5.00\nChildren Under 6 years old - F
 ree\n\nFor more information visit https://flaxmag.com/events/saint-lou
 is-auto-show
DTSTART:20100128T170000Z
DTEND:20100131T220000Z
CATEGORIES:auto, show
LOCATION:Edward Jones Dome
WEBSITE:http://www.saintlouisautoshow.com/
URL:http://www.saintlouisautoshow.com/
CONTACT:
ORGANIZER:St. Louis Auto Dealers Association
ATTACH;FMTTYPE="image/jpeg":http://storage.ning.com/topology/rest/1.0/
 file/get/2587029343?profile=original
ATTENDEE;ROLE=REQ-PARTICIPANT;PARTSTAT=ACCEPTED;RSVP=TRUE;CN="FLAX MAG
 AZINE FL":https://flaxmag.com/profile/BW1
END:VEVENT
END:VCALENDAR
