BEGIN:VCALENDAR
PRODID:NingEventWidget-v1
VERSION:2.0
METHOD:PUBLISH
BEGIN:VEVENT
UID:4027687:Event:97318
DTSTAMP:20260423T104518Z
SUMMARY:SOUTH FLORIDA EXOTIC CAR TOY RALLY
DESCRIPTION:*REGISTER Here: http://www.toyrally.com/registration_form.
 htm \r\n \r\nSOUTH FLORIDA EXOTIC CAR  TOY RALLY,  \r\nto benefit TO
 YS FOR TOTS\r\n\r\n\r\nOn  SATURDAY, DECEMBER 14th, the 2024 South Fl
 orida Exotic Car TOY RALLY, to benefit Toys for Tots, will celebrate i
 ts 19th anniversary, as it 'takes to the streets' for charity, as one 
 of the largest processions of exotic cars and one of the most anticipa
 ted exotic car events in the country!!!\r\n\r\nHundreds of exotic cars
  will be driven from the amazing Seminole Coconut Creek Casino to the 
 fantastic Goodyear Airship facilities!!!\r\n\r\nAn amazing sight - a c
 aravan of exotic cars stretching miles long, driven by their owners to
  benefit underprivileged children!!  Incredible to see, but even more
  incredible is the positive impact and difference the TOY RALLY makes 
 for the children as a charity event!!\r\n\r\nLast year, the 2023 TOY R
 ALLY smashed all previous records - with over $100 million in exotic c
 ars and record attendance. But, the most important record was the insa
 nely huge mountain of toys (over 4,000 toys!!), which required 2 movin
 g trucks for the USMC to collect them all...with 100% of all money and
  toys donated to Toys for Tots!!  This equates to a LOT of smiles on 
 the faces of kids, and the positive impact it has on their holidays!!\
 r\n  \r\nFrom all of the organizers, sponsors, and especially the ki
 ds, we appreciate your participation and support of the TOY RALLY!!!\r
 \n**Advanced registration is required to participate, and space is lim
 ited, so please register early!!!**\r\n\r\nFor More Info: http://www.t
 oyrally.com/index.htm\n\nFor more information visit https://flaxmag.co
 m/events/south-florida-exotic-car-toy-rally
DTSTART:20241214T130000Z
DTEND:20241214T200000Z
CATEGORIES:car, rally, benefiting, toys, for, tots
LOCATION:VARIOUS LOCATIONS ACROSS SOUTH FLORIDA
WEBSITE:http://www.toyrally.com/index.htm
URL:http://www.toyrally.com/index.htm
CONTACT:
ORGANIZER:SOUTH FLORIDA EXOTIC CAR TOY RALLY
ATTACH;FMTTYPE="image/jpeg":https://storage.ning.com/topology/rest/1.0
 /file/get/13156685254?profile=original
ATTENDEE;ROLE=REQ-PARTICIPANT;PARTSTAT=ACCEPTED;RSVP=TRUE;CN="FLAX MAG
 AZINE FL":https://flaxmag.com/profile/BW1
END:VEVENT
END:VCALENDAR
