BEGIN:VCALENDAR
PRODID:NingEventWidget-v1
VERSION:2.0
METHOD:PUBLISH
BEGIN:VEVENT
UID:4027687:Event:28185
DTSTAMP:20260423T193336Z
SUMMARY:South Miami Mopar Connection BWW Cruise
DESCRIPTION:Every month on the second Sunday. Hosted by the South Miam
 i Mopar Connection Car Cruise. Cruise starts a Tropical Park and ends 
 at Buffalo Wild Wings. Custom menu for all SMMC members and guest. $12
  buckets (5) beer of domestics, $4 22oz Bud Light. Come join the fun, 
 great food, great Mopars, and great friends. Guaranteed parking for al
 l Mopars. All Mopar enthusiast are welcomed. Always accepting new appl
 icants to join the club.\n\nFor more information visit https://flaxmag
 .com/events/south-miami-mopar-connection-bww-cruise
DTSTART:20180513T160000Z
DTEND:20180513T190000Z
CATEGORIES:car, show
LOCATION:BUFFALO WILD WINGS
WEBSITE:http://www.southmiamimoparconnection.com/events.html
URL:http://www.southmiamimoparconnection.com/events.html
CONTACT:(305) 305-3795 Alex
ORGANIZER:Hosted by the South Miami Mopar Connection Car Cruise.
ATTACH;FMTTYPE="image/jpeg":http://storage.ning.com/topology/rest/1.0/
 file/get/2587031218?profile=original
ATTENDEE;ROLE=REQ-PARTICIPANT;PARTSTAT=ACCEPTED;RSVP=TRUE;CN="FLAX MAG
 AZINE FL":https://flaxmag.com/profile/BW1
END:VEVENT
END:VCALENDAR
