BEGIN:VCALENDAR
PRODID:NingEventWidget-v1
VERSION:2.0
METHOD:PUBLISH
BEGIN:VEVENT
UID:4027687:Event:28209
DTSTAMP:20260423T192146Z
SUMMARY:Sundays At The Isle
DESCRIPTION:Presented by The Isle Casino & Racing Pompano Park Hosted 
 by Corvettes And Coffee Co-Hosted by Cars Curing Cancer, Tri-County Mo
 par and MORE.   Sponsored by: Redline Motorsports (GM), Foreign Affair
 s (Porsche/BMW), GearHead Fabrications (Mopar), Power By The Hour (For
 d), Big Shot Rides, Texas Speed and Performance and MORE!  GIVEAWAYS, 
 VENDORS, BRUNCH & BAR, LIVE MUSIC, DYNO, CAR WASH and MORE!  $10 per d
 isplay vehicle at the entrance (BRING CASH) Spectator Parking is $3  F
 amily & Pet-Friendly Beat the Lines By Pre-Paying Online.  This event 
 is By Car Guys, For Car Guys. From the Creators of Corvettes and Coffe
 e we bring the entire car community together as a family who all enjoy
  one thing South Florida is desperately missing, A True \"Car Guy/Girl
 \" High Performance and Street Car Event. It doesn't matter what you d
 rive. If you spend time working on it, cleaning it, driving it, or thi
 nking about it.....Welcome Home. With your support, We hope to build t
 he greatest Authentic Car Event for the Authentic Car Community.\n\nFo
 r more information visit https://flaxmag.com/events/sundays-at-the-isl
 e
DTSTART:20180520T130000Z
DTEND:20180520T160000Z
CATEGORIES:car, show
LOCATION:Isle Casino Racing Pompano Park
WEBSITE:http://www.VettesAndCoffee.com
URL:http://www.VettesAndCoffee.com
CONTACT:
ORGANIZER:Corvettes and Coffee
ATTACH;FMTTYPE="image/jpeg":http://storage.ning.com/topology/rest/1.0/
 file/get/2587031088?profile=original
ATTENDEE;ROLE=REQ-PARTICIPANT;PARTSTAT=ACCEPTED;RSVP=TRUE;CN="FLAX MAG
 AZINE FL":https://flaxmag.com/profile/BW1
END:VEVENT
END:VCALENDAR
