BEGIN:VCALENDAR
PRODID:NingEventWidget-v1
VERSION:2.0
METHOD:PUBLISH
BEGIN:VEVENT
UID:4027687:Event:29702
DTSTAMP:20260423T221140Z
SUMMARY:Super Cars & Lattes
DESCRIPTION:Details\r\n\r\n\r\n\r\n\r\n\r\nMark your calendars, Super 
 Cars & Lattes is going down on January 27th from 9 am-noon! We invite 
 you to be part of our open house and see cars and enthusiasts gather f
 rom all over South Florida. Lusso Ladies from each month will be prese
 nt for official calendar release and signing. Shoot us a DM if you're 
 a brand interested in attending. Come enjoy some amazing cars, shop an
 d fabrication projects and some complimentary breakfast items.7241 Hav
 erhill Business Pkwy, Riviera Beach, FL 33407\r\n\r\n\r\n\n\nFor more 
 information visit https://flaxmag.com/events/super-cars-lattes
DTSTART:20190127T140000Z
DTEND:20190127T170000Z
CATEGORIES:car, show
LOCATION:Lusso Motorsports
WEBSITE:https://www.facebook.com/events/366159707518641/
URL:https://www.facebook.com/events/366159707518641/
CONTACT:(888) 745-8776
ORGANIZER:LUSSO MOTORSPORTS
ATTACH;FMTTYPE="image/jpeg":https://storage.ning.com/topology/rest/1.0
 /file/get/860548266?profile=original
ATTENDEE;ROLE=REQ-PARTICIPANT;PARTSTAT=ACCEPTED;RSVP=TRUE;CN="FLAX MAG
 AZINE FL":https://flaxmag.com/profile/BW1
END:VEVENT
END:VCALENDAR
