BEGIN:VCALENDAR
PRODID:NingEventWidget-v1
VERSION:2.0
METHOD:PUBLISH
BEGIN:VEVENT
UID:4027687:Event:27727
DTSTAMP:20260423T174510Z
SUMMARY:SUPERCAR SATURDAYS FLORIDA
DESCRIPTION:Held on the second Saturday of each month, Supercar Saturd
 ays Florida, is open to all makes, models and years of vehicles. Howev
 er, the majority of vehicles will be “Luxury, Sports, Classic & Exot
 ic” cars.\r\n\r\n\r\n\r\nFREE ADMISSION\n\nFor more information visi
 t https://flaxmag.com/events/supercar-saturdays-florida-12
DTSTART:20180908T140000Z
DTEND:20180908T170000Z
CATEGORIES:car, show, held, on, second, saturday, each, "month."
LOCATION:Lamborghini Broward
WEBSITE:https://www.facebook.com/supercarsaturdaysflorida
URL:https://www.facebook.com/supercarsaturdaysflorida
CONTACT:Call (888) 201-1791
ORGANIZER:Lamborghini Broward
ATTACH;FMTTYPE="image/jpeg":http://storage.ning.com/topology/rest/1.0/
 file/get/2587033117?profile=original
ATTENDEE;ROLE=REQ-PARTICIPANT;PARTSTAT=ACCEPTED;RSVP=TRUE;CN="FLAX MAG
 AZINE FL":https://flaxmag.com/profile/BW1
END:VEVENT
END:VCALENDAR
