BEGIN:VCALENDAR
PRODID:NingEventWidget-v1
VERSION:2.0
METHOD:PUBLISH
BEGIN:VEVENT
UID:4027687:Event:27645
DTSTAMP:20260423T203254Z
SUMMARY:SUPERCAR SOCIAL CHRISTMAS PARTY
DESCRIPTION:\r\n''Tis the season - Come celebrate food, cars, art & fu
 n. See and be seen at Supercar Social Thursdays.” 6pm-9pm DINNER RES
 ERVATIONS 561 429 8456 -Complimentary Valet! LIVE STREAMING! DJ Mr. Pa
 lm Beach! #supercarweek#kashamckeegallery#costapalmbeach#monkeyinpara
 dise#vodka#esplanadepb#worthavenue#palmbeach#christmasparty\n\nFor mor
 e information visit https://flaxmag.com/events/supercar-social-christm
 as-party
DTSTART:20171221T230000Z
DTEND:20171222T020000Z
CATEGORIES:christmas, party
LOCATION:Costa Palm Beach
WEBSITE:https://www.facebook.com/events/1335327546571828/
URL:https://www.facebook.com/events/1335327546571828/
CONTACT:561.429.8456
ORGANIZER:SuperCar Week and Costa Palm Beach
ATTACH;FMTTYPE="image/jpeg":http://storage.ning.com/topology/rest/1.0/
 file/get/2587030780?profile=original
ATTENDEE;ROLE=REQ-PARTICIPANT;PARTSTAT=ACCEPTED;RSVP=TRUE;CN="FLAX MAG
 AZINE FL":https://flaxmag.com/profile/BW1
END:VEVENT
END:VCALENDAR
