BEGIN:VCALENDAR
PRODID:NingEventWidget-v1
VERSION:2.0
METHOD:PUBLISH
BEGIN:VEVENT
UID:4027687:Event:27731
DTSTAMP:20260423T185541Z
SUMMARY:SUPERCAR SOCIAL THURSDAYS
DESCRIPTION:\n\nFor more information visit https://flaxmag.com/events/
 supercar-social-thursdays-1
DTSTART:20171228T230000Z
DTEND:20171229T020000Z
CATEGORIES:supercar, social, event
LOCATION:Costa Palm Beach
WEBSITE:http://www.costapb.com
URL:http://www.costapb.com
CONTACT:561.429.8456
ORGANIZER:SuperCar Week and Costa Palm Beach
ATTACH;FMTTYPE="image/jpeg":http://storage.ning.com/topology/rest/1.0/
 file/get/2587033009?profile=original
ATTENDEE;ROLE=REQ-PARTICIPANT;PARTSTAT=ACCEPTED;RSVP=TRUE;CN="FLAX MAG
 AZINE FL":https://flaxmag.com/profile/BW1
END:VEVENT
END:VCALENDAR
