BEGIN:VCALENDAR
PRODID:NingEventWidget-v1
VERSION:2.0
METHOD:PUBLISH
BEGIN:VEVENT
UID:4027687:Event:26106
DTSTAMP:20260423T202033Z
SUMMARY:SUPERCAR WEEK DAY 1
DESCRIPTION:SuperCar Week Kick Off\r\nLamborghini Palm Beach Cars & Co
 ffee 2:00p - 4:00p. Evening, VIP Cocktail Party Invite Only 6:00 - 9:0
 0p\r\nSaturday, January 6th 2018\n\nFor more information visit https:/
 /flaxmag.com/events/supercar-week-day-1
DTSTART:20180106T230000Z
DTEND:20180109T020000Z
CATEGORIES:car, event
LOCATION:Lamborghini Palm Beach
WEBSITE:http://supercarweek.com/
URL:http://supercarweek.com/
CONTACT:
ORGANIZER:SUPERCAR WEEK
ATTACH;FMTTYPE="image/jpeg":http://storage.ning.com/topology/rest/1.0/
 file/get/2587029986?profile=original
ATTENDEE;ROLE=REQ-PARTICIPANT;PARTSTAT=ACCEPTED;RSVP=TRUE;CN="FLAX MAG
 AZINE FL":https://flaxmag.com/profile/BW1
END:VEVENT
END:VCALENDAR
