BEGIN:VCALENDAR
PRODID:NingEventWidget-v1
VERSION:2.0
METHOD:PUBLISH
BEGIN:VEVENT
UID:4027687:Event:26005
DTSTAMP:20260423T214324Z
SUMMARY:SUPERCAR WEEK DAY 2
DESCRIPTION:\r\nSuperCar HorsePower Show\r\nDay 2: Supercar HorsePower
  Show Opening Day High Goal Polo Season at the International Polo Cub,
  Wellington Florida. 11:00a - 5:00p\r\nSunday, January 7th 2018\r\n\r\
 nBUY VIP TICKETS\n\nFor more information visit https://flaxmag.com/eve
 nts/supercar-week-day-2
DTSTART:20180107T160000Z
DTEND:20180107T220000Z
CATEGORIES:car, event
LOCATION:INTERNATIONAL POLO CLUB
WEBSITE:http://supercarweek.com/
URL:http://supercarweek.com/
CONTACT:
ORGANIZER:SUPERCAR WEEK
ATTACH;FMTTYPE="image/jpeg":http://storage.ning.com/topology/rest/1.0/
 file/get/2587031697?profile=original
ATTENDEE;ROLE=REQ-PARTICIPANT;PARTSTAT=ACCEPTED;RSVP=TRUE;CN="FLAX MAG
 AZINE FL":https://flaxmag.com/profile/BW1
END:VEVENT
END:VCALENDAR
