BEGIN:VCALENDAR
PRODID:NingEventWidget-v1
VERSION:2.0
METHOD:PUBLISH
BEGIN:VEVENT
UID:4027687:Event:26009
DTSTAMP:20260423T230424Z
SUMMARY:SUPERCAR WEEK DAY 3
DESCRIPTION:\r\n\r\nBoca Raton\r\nSuperCar Boca VIP Invite Cocktail Pa
 rty at Excell Auto in Boca Raton. Music & Entertainment 6:00-9:00p\r\n
 Tuesday, January 9th 2018\r\n\r\nBUY VIP TICKETS\n\nFor more informati
 on visit https://flaxmag.com/events/supercar-week-day-3
DTSTART:20180109T230000Z
DTEND:20180110T020000Z
CATEGORIES:car, event
LOCATION:EXCELL AUTO
WEBSITE:http://supercarweek.com/
URL:http://supercarweek.com/
CONTACT:
ORGANIZER:SUPERCAR WEEK
ATTACH;FMTTYPE="image/jpeg":http://storage.ning.com/topology/rest/1.0/
 file/get/2587030530?profile=original
ATTENDEE;ROLE=REQ-PARTICIPANT;PARTSTAT=ACCEPTED;RSVP=TRUE;CN="FLAX MAG
 AZINE FL":https://flaxmag.com/profile/BW1
END:VEVENT
END:VCALENDAR
