BEGIN:VCALENDAR
PRODID:NingEventWidget-v1
VERSION:2.0
METHOD:PUBLISH
BEGIN:VEVENT
UID:4027687:Event:26110
DTSTAMP:20260424T002325Z
SUMMARY:SUPERCAR WEEK DAY 4
DESCRIPTION:\r\n\r\nDowntown at The Gardens\r\nSuperCar @ The Gardens,
  Downtown at The Gardens, Palm Beach Gardens. Car Show and Music & Ent
 ertainment 6:00-9:00p\r\nWednesday, January 10th 2018\r\n\r\nBUY VIP T
 ICKETS\n\nFor more information visit https://flaxmag.com/events/superc
 ar-week-day-4
DTSTART:20180110T230000Z
DTEND:20180111T020000Z
CATEGORIES:car, event
LOCATION:THE GARDENS
WEBSITE:http://supercarweek.com/
URL:http://supercarweek.com/
CONTACT:
ORGANIZER:SUPERCAR WEEK
ATTACH;FMTTYPE="image/jpeg":http://storage.ning.com/topology/rest/1.0/
 file/get/2587029921?profile=original
ATTENDEE;ROLE=REQ-PARTICIPANT;PARTSTAT=ACCEPTED;RSVP=TRUE;CN="FLAX MAG
 AZINE FL":https://flaxmag.com/profile/BW1
END:VEVENT
END:VCALENDAR
