BEGIN:VCALENDAR
PRODID:NingEventWidget-v1
VERSION:2.0
METHOD:PUBLISH
BEGIN:VEVENT
UID:4027687:Event:26014
DTSTAMP:20260423T230423Z
SUMMARY:SUPERCAR WEEK DAY 6
DESCRIPTION:\r\n\r\nSuperCar Week Race Experience & Palm Prix\r\nSuper
 Car Week Race Experience and Palm Prix at Palm Beach International Rac
 eway. Drive your car or one of ours. Music & Entertainment & VIP Chale
 t. Noon - 10p\r\nFriday, January 12th 2018\r\n\r\nBUY VIP TICKETS\n\nF
 or more information visit https://flaxmag.com/events/supercar-week-day
 -6
DTSTART:20180112T170000Z
DTEND:20180113T030000Z
CATEGORIES:car, event
LOCATION:PALM BEACH INTERNATIONAL RACEWAY
WEBSITE:http://supercarweek.com/
URL:http://supercarweek.com/
CONTACT:
ORGANIZER:SUPERCAR WEEK
ATTACH;FMTTYPE="image/jpeg":http://storage.ning.com/topology/rest/1.0/
 file/get/2587029892?profile=original
ATTENDEE;ROLE=REQ-PARTICIPANT;PARTSTAT=ACCEPTED;RSVP=TRUE;CN="FLAX MAG
 AZINE FL":https://flaxmag.com/profile/BW1
END:VEVENT
END:VCALENDAR
